BEGIN:VCALENDAR
VERSION:2.0
PRODID:Nexudus
BEGIN:VTIMEZONE
TZID:W. Europe Standard Time
BEGIN:STANDARD
DTSTART:20201002T030000
RRULE:FREQ=YEARLY;BYDAY=-1SU;BYHOUR=3;BYMINUTE=0;BYMONTH=10
TZNAME:W. Europe Standard Time
TZOFFSETFROM:+0200
TZOFFSETTO:+0100
END:STANDARD
BEGIN:DAYLIGHT
DTSTART:20200301T020000
RRULE:FREQ=YEARLY;BYDAY=-1SU;BYHOUR=2;BYMINUTE=0;BYMONTH=3
TZNAME:W. Europe Daylight Time
TZOFFSETFROM:+0100
TZOFFSETTO:+0200
END:DAYLIGHT
END:VTIMEZONE
BEGIN:VEVENT
DESCRIPTION:Foundry is proud to present an event dedicated to Sustainable F
 ashion!\nAs part of the event\, we will offer an opportunity for sustainab
 le fashion businesses to host pop-up stores at the Foundry Garage.
DTEND;TZID=W. Europe Standard Time:20190921T170000
DTSTAMP:20211007T051304Z
DTSTART;TZID=W. Europe Standard Time:20190919T150000
LOCATION:Foundry
SEQUENCE:0
SUMMARY:Sustainable Fashion Pop-up Stores
UID:d8ec78d0-a3af-4cc5-bf07-59df187fe81d
END:VEVENT
END:VCALENDAR
