BEGIN:VCALENDAR
VERSION:2.0
PRODID:Nexudus
BEGIN:VTIMEZONE
TZID:W. Europe Standard Time
BEGIN:STANDARD
DTSTART:20201002T030000
RRULE:FREQ=YEARLY;BYDAY=-1SU;BYHOUR=3;BYMINUTE=0;BYMONTH=10
TZNAME:W. Europe Standard Time
TZOFFSETFROM:+0200
TZOFFSETTO:+0100
END:STANDARD
BEGIN:DAYLIGHT
DTSTART:20200301T020000
RRULE:FREQ=YEARLY;BYDAY=-1SU;BYHOUR=2;BYMINUTE=0;BYMONTH=3
TZNAME:W. Europe Daylight Time
TZOFFSETFROM:+0100
TZOFFSETTO:+0200
END:DAYLIGHT
END:VTIMEZONE
BEGIN:VEVENT
DESCRIPTION:
DTEND;TZID=W. Europe Standard Time:20200319T193000
DTSTAMP:20211007T051637Z
DTSTART;TZID=W. Europe Standard Time:20200319T183000
LOCATION:Foundry
SEQUENCE:0
SUMMARY:Startup Grind: We are hosting Mixvoip
UID:3c7a4897-b213-4979-a1f8-d7553197073c
END:VEVENT
END:VCALENDAR
