BEGIN:VCALENDAR
VERSION:2.0
PRODID:Nexudus
BEGIN:VTIMEZONE
TZID:W. Europe Standard Time
BEGIN:STANDARD
DTSTART:20201002T030000
RRULE:FREQ=YEARLY;BYDAY=-1SU;BYHOUR=3;BYMINUTE=0;BYMONTH=10
TZNAME:W. Europe Standard Time
TZOFFSETFROM:+0200
TZOFFSETTO:+0100
END:STANDARD
BEGIN:DAYLIGHT
DTSTART:20200301T020000
RRULE:FREQ=YEARLY;BYDAY=-1SU;BYHOUR=2;BYMINUTE=0;BYMONTH=3
TZNAME:W. Europe Daylight Time
TZOFFSETFROM:+0100
TZOFFSETTO:+0200
END:DAYLIGHT
END:VTIMEZONE
BEGIN:VEVENT
DESCRIPTION:
DTEND;TZID=W. Europe Standard Time:20200710T111500
DTSTAMP:20211007T051700Z
DTSTART;TZID=W. Europe Standard Time:20200710T121500
LOCATION:Foundry
SEQUENCE:0
SUMMARY:Grainne Corr: How to improve your resilience coming out of lockdown
 ?
UID:8ea7c494-4b82-43c1-9bfb-1119d0450ca0
END:VEVENT
END:VCALENDAR
