BEGIN:VCALENDAR
VERSION:2.0
PRODID:Nexudus
BEGIN:VTIMEZONE
TZID:W. Europe Standard Time
BEGIN:STANDARD
DTSTART:20201002T030000
RRULE:FREQ=YEARLY;BYDAY=-1SU;BYHOUR=3;BYMINUTE=0;BYMONTH=10
TZNAME:W. Europe Standard Time
TZOFFSETFROM:+0200
TZOFFSETTO:+0100
END:STANDARD
BEGIN:DAYLIGHT
DTSTART:20200301T020000
RRULE:FREQ=YEARLY;BYDAY=-1SU;BYHOUR=2;BYMINUTE=0;BYMONTH=3
TZNAME:W. Europe Daylight Time
TZOFFSETFROM:+0100
TZOFFSETTO:+0200
END:DAYLIGHT
END:VTIMEZONE
BEGIN:VEVENT
DESCRIPTION:
DTEND;TZID=W. Europe Standard Time:20200724T134500
DTSTAMP:20211007T052230Z
DTSTART;TZID=W. Europe Standard Time:20200724T121500
LOCATION:Foundry
SEQUENCE:0
SUMMARY:Patrizia Luchetta: How to transform your business approach in chall
 enging times
UID:cf8d0fe9-8fff-476a-b812-47a400abc856
END:VEVENT
END:VCALENDAR
