BEGIN:VCALENDAR
VERSION:2.0
PRODID:Nexudus
BEGIN:VTIMEZONE
TZID:W. Europe Standard Time
BEGIN:STANDARD
DTSTART:20201002T030000
RRULE:FREQ=YEARLY;BYDAY=-1SU;BYHOUR=3;BYMINUTE=0;BYMONTH=10
TZNAME:W. Europe Standard Time
TZOFFSETFROM:+0200
TZOFFSETTO:+0100
END:STANDARD
BEGIN:DAYLIGHT
DTSTART:20200301T020000
RRULE:FREQ=YEARLY;BYDAY=-1SU;BYHOUR=2;BYMINUTE=0;BYMONTH=3
TZNAME:W. Europe Daylight Time
TZOFFSETFROM:+0100
TZOFFSETTO:+0200
END:DAYLIGHT
END:VTIMEZONE
BEGIN:VEVENT
DESCRIPTION:
DTEND;TZID=W. Europe Standard Time:20190918T213000
DTSTAMP:20211007T052347Z
DTSTART;TZID=W. Europe Standard Time:20190918T180000
LOCATION:Foundry
SEQUENCE:0
SUMMARY:SOLD OUT - Foundry Sustainability Events: Sustainable Fashion
UID:536691a1-13c5-40ce-b9c3-3d9316ef6139
END:VEVENT
END:VCALENDAR
